BEGIN:VCALENDAR
VERSION:2.0
PRODID:-//Mary Lee LaBay - ECPv6.15.14//NONSGML v1.0//EN
CALSCALE:GREGORIAN
METHOD:PUBLISH
X-WR-CALNAME:Mary Lee LaBay
X-ORIGINAL-URL:https://maryleelabay.com
X-WR-CALDESC:Events for Mary Lee LaBay
REFRESH-INTERVAL;VALUE=DURATION:PT1H
X-Robots-Tag:noindex
X-PUBLISHED-TTL:PT1H
BEGIN:VTIMEZONE
TZID:America/Los_Angeles
BEGIN:DAYLIGHT
TZOFFSETFROM:-0800
TZOFFSETTO:-0700
TZNAME:PDT
DTSTART:20230312T100000
END:DAYLIGHT
BEGIN:STANDARD
TZOFFSETFROM:-0700
TZOFFSETTO:-0800
TZNAME:PST
DTSTART:20231105T090000
END:STANDARD
BEGIN:DAYLIGHT
TZOFFSETFROM:-0800
TZOFFSETTO:-0700
TZNAME:PDT
DTSTART:20240310T100000
END:DAYLIGHT
BEGIN:STANDARD
TZOFFSETFROM:-0700
TZOFFSETTO:-0800
TZNAME:PST
DTSTART:20241103T090000
END:STANDARD
BEGIN:DAYLIGHT
TZOFFSETFROM:-0800
TZOFFSETTO:-0700
TZNAME:PDT
DTSTART:20250309T100000
END:DAYLIGHT
BEGIN:STANDARD
TZOFFSETFROM:-0700
TZOFFSETTO:-0800
TZNAME:PST
DTSTART:20251102T090000
END:STANDARD
END:VTIMEZONE
BEGIN:VEVENT
DTSTART;TZID=America/Los_Angeles:20241217T180000
DTEND;TZID=America/Los_Angeles:20241217T190000
DTSTAMP:20260419T233925
CREATED:20241207T234918Z
LAST-MODIFIED:20250418T152824Z
UID:5884-1734458400-1734462000@maryleelabay.com
SUMMARY:Sacred Journey
DESCRIPTION:Turn on your innate psychic abilities! Tune into your inner wisdom\, meet your spirit guides\, spirit animals\, and totems\, and receive guidance and wisdom concerning your past\, present\, and future. \nA shamanic journey traditionally involves a shaman guiding a participant through a visionary world to collect pertinent information\, guidance\, and wisdom. \nShamans are the “medicine people” of indigenous tribes around the world. They are known to be able to access the spirit world while in a state of altered consciousness. \nIn my private practice\, I’ve created a modified version of such a journey I call a Sacred Journey\, useful in opening communication with spirit guides as well as with the participant’s higher self or subconscious mind. In my private sessions\, the practitioner and client are in dialogue to provide an enhanced experience of personalized feedback\, support\, and guidance. In a group setting\, the journey is more generic\, and participants journey silently. \nThe Sacred Journey is a fascinating adventure through the landscape of the participant’s higher consciousness\, lush with wisdom and awareness\, and opening the gateway to access the spiritual realms\, including guidance from spirit guides and other supporters. \nIt’s helpful to set specific goals as you enter the Journey\, such as resolving an issue\, understanding a decision\, or peering into the future of your life path to see what lies ahead. Your subconscious mind is also free to reveal an unexpected yet vital message. \nYou are invited to join us on this powerful and revealing journey. Ensure you are in a quiet space where you won’t be disturbed during the event. We’ll have a short discussion before and after the experiential visualization. \nJoin my MeetUp group to attend this class.   Hypnotherapy and Past Life Meet Up \n  \n Up.
URL:https://maryleelabay.com/event/sacred-journey/
CATEGORIES:Professional Training,Special Events
ATTACH;FMTTYPE=image/jpeg:https://maryleelabay.com/wp-content/uploads/2024/10/6.jpg
END:VEVENT
BEGIN:VEVENT
DTSTART;TZID=America/Los_Angeles:20241214T100000
DTEND;TZID=America/Los_Angeles:20241214T110000
DTSTAMP:20260419T233925
CREATED:20241207T233720Z
LAST-MODIFIED:20250812T144946Z
UID:5879-1734170400-1734174000@maryleelabay.com
SUMMARY:Tarot and Tinsel: Getting on Santa's Good Side
DESCRIPTION:Ever wondered what the tarot cards have to say about your spot on the naughty or nice list? In this lighthearted and magical class\, we’ll use tarot to explore how you can stay in Santa’s good graces—or maybe even embrace a little mischief with flair! \nThis is more than a tarot reading session; it’s a festive experience where we’ll pull cards\, discuss their meanings\, and uncover answers to your burning questions. Whether you’re a seasoned tarot reader or a curious beginner\, you’ll feel right at home. \nWhat to expect: \n🎄 A fun and inclusive atmosphere for all levels.\n🎅 Personalized readings to uncover insights and guidance.\n✨ Group discussions to explore the mysteries of the cards.\n🎁 A chance to bring your questions—and maybe some holiday cheer! \nCome join us for an hour of Tarot and Tinsel magic\, seasonal surprises\, and answers straight from the cards. \nJoin my MeetUp Group to access this class.   Wisdom of the Tarot. 
URL:https://maryleelabay.com/event/tarot-and-tinsel/
CATEGORIES:In-person training,Professional Training,Special Events
ATTACH;FMTTYPE=image/jpeg:https://maryleelabay.com/wp-content/uploads/2024/12/side-view-young-woman-reading-tarot.jpg
END:VEVENT
BEGIN:VEVENT
DTSTART;TZID=America/Los_Angeles:20240727T133000
DTEND;TZID=America/Los_Angeles:20240727T163000
DTSTAMP:20260419T233925
CREATED:20240620T171534Z
LAST-MODIFIED:20260205T074446Z
UID:4839-1722087000-1722097800@maryleelabay.com
SUMMARY:Wine and Book Signing
DESCRIPTION:I will be a member of a discussion panel during this fun and informative event. \nEvent Highlights: \n1. Book Signing: Meet Dr. Anna Margolina and get your copy of the book signed. \n2. Gathering and Discussion: Enjoy a special reading and discussion about the book’s insights on achieving radiant skin through Chi Kung and Taoist practices. \n3. Q&A Session: Engage in an interactive session with the author to learn more about the secrets to inner and outer beauty. \n4. Celebration: Savor a glass of exquisite wine from Prohibition Cellars and join the celebration! \nDon’t miss this unique opportunity to delve into the ancient secrets of beauty and wellness while enjoying an evening of wine\, wisdom\, and wonderful company. \nGrab your ticket and join us for a memorable afternoon!
URL:https://maryleelabay.com/event/wine-and-book-signing/
LOCATION:Prohibition Cellars\, 19501 144th AVE NE\, STE F-900\, Redmond\, WA\, WA\, 98072\, United States
CATEGORIES:Special Events
ATTACH;FMTTYPE=image/jpeg:https://maryleelabay.com/wp-content/uploads/2024/06/https-cdn.evbuc_.com-images-792008389-54128578184-1-original.20240618-185916.jpeg
END:VEVENT
END:VCALENDAR